BEGIN:VCALENDAR
VERSION:2.0
PRODID:-//SAPEURS-POMPIERS DE VEYRIER - ECPv5.8.0//NONSGML v1.0//EN
CALSCALE:GREGORIAN
METHOD:PUBLISH
X-WR-CALNAME:SAPEURS-POMPIERS DE VEYRIER
X-ORIGINAL-URL:https://pompiers-veyrier.ch
X-WR-CALDESC:évènements pour SAPEURS-POMPIERS DE VEYRIER
BEGIN:VTIMEZONE
TZID:Europe/Zurich
BEGIN:DAYLIGHT
TZOFFSETFROM:+0100
TZOFFSETTO:+0200
TZNAME:CEST
DTSTART:20180325T010000
END:DAYLIGHT
BEGIN:STANDARD
TZOFFSETFROM:+0200
TZOFFSETTO:+0100
TZNAME:CET
DTSTART:20181028T010000
END:STANDARD
END:VTIMEZONE
BEGIN:VEVENT
DTSTART;TZID=Europe/Zurich:20180913T200000
DTEND;TZID=Europe/Zurich:20180913T223000
DTSTAMP:20260422T105616
CREATED:20171120T214715Z
LAST-MODIFIED:20171120T214715Z
UID:2866-1536868800-1536877800@pompiers-veyrier.ch
SUMMARY:Exercice de compagnie
DESCRIPTION:
URL:https://pompiers-veyrier.ch/event/exercice-de-compagnie-7/
END:VEVENT
END:VCALENDAR